BEGIN:VCALENDAR
VERSION:2.0
PRODID:-//SMA NEGERI 1 PATIKRAJA - ECPv6.6.4.2//NONSGML v1.0//EN
CALSCALE:GREGORIAN
METHOD:PUBLISH
X-WR-CALNAME:SMA NEGERI 1 PATIKRAJA
X-ORIGINAL-URL:https://smanpatikraja.sch.id
X-WR-CALDESC:Events for SMA NEGERI 1 PATIKRAJA
REFRESH-INTERVAL;VALUE=DURATION:PT1H
X-Robots-Tag:noindex
X-PUBLISHED-TTL:PT1H
BEGIN:VTIMEZONE
TZID:Asia/Krasnoyarsk
BEGIN:STANDARD
TZOFFSETFROM:+0700
TZOFFSETTO:+0700
TZNAME:+07
DTSTART:20240101T000000
END:STANDARD
END:VTIMEZONE
BEGIN:VEVENT
DTSTART;TZID=Asia/Krasnoyarsk:20240923T073000
DTEND;TZID=Asia/Krasnoyarsk:20240923T090000
DTSTAMP:20260422T233539
CREATED:20240920T030406Z
LAST-MODIFIED:20240920T030413Z
UID:10138-1727076600-1727082000@smanpatikraja.sch.id
SUMMARY:Pengajian Maulid Nabi Muhammad SAW 2024 | Narasumber : Gus Fauzan
DESCRIPTION:
URL:https://smanpatikraja.sch.id/event/pengajian-maulid-nabi-muhammad-saw-2024-narasumber-gus-fauzan/
CATEGORIES:Kegiatan Sekolah
ATTACH;FMTTYPE=image/jpeg:https://smanpatikraja.sch.id/wp-content/uploads/2024/09/WhatsApp-Image-2023-11-09-at-10.37.55-2.jpeg
END:VEVENT
BEGIN:VEVENT
DTSTART;TZID=Asia/Krasnoyarsk:20240924T080000
DTEND;TZID=Asia/Krasnoyarsk:20240924T150000
DTSTAMP:20260422T233539
CREATED:20240920T025515Z
LAST-MODIFIED:20240920T025925Z
UID:10136-1727164800-1727190000@smanpatikraja.sch.id
SUMMARY:Gelar Karya P5 Kelas X & XII
DESCRIPTION:
URL:https://smanpatikraja.sch.id/event/gelar-karya-p5-kelas-x-xii/
LOCATION:SMA Negeri Patikraja\, SMA Negeri Patikraja\, Patikraja\, Jawa Tengah\, Indonesia
CATEGORIES:Kegiatan Sekolah
END:VEVENT
BEGIN:VEVENT
DTSTART;TZID=Asia/Krasnoyarsk:20240926T080000
DTEND;TZID=Asia/Krasnoyarsk:20240926T153000
DTSTAMP:20260422T233539
CREATED:20240920T031006Z
LAST-MODIFIED:20240920T031006Z
UID:10141-1727337600-1727364600@smanpatikraja.sch.id
SUMMARY:Gelar Karya P5 Kelas XI "Drama Musical" Tema Bhineka Tunggal Ika
DESCRIPTION:
URL:https://smanpatikraja.sch.id/event/gelar-karya-p5-kelas-xi-drama-musical-tema-bhineka-tunggal-ika/
CATEGORIES:Kegiatan Sekolah
ATTACH;FMTTYPE=image/jpeg:https://smanpatikraja.sch.id/wp-content/uploads/2024/09/WhatsApp-Image-2024-09-20-at-10.09.07.jpeg
END:VEVENT
END:VCALENDAR